BEGIN:VCALENDAR
VERSION:2.0
PRODID:-//eventon.com NONSGML v1.0//EN
CALSCALE:GREGORIAN
METHOD:PUBLISH
BEGIN:VEVENT
UID:69e7522e2b48b
DTSTAMP:20260421T103214Z
DTSTART:20260426T140000Z
DTEND:20260427T035900Z
LOCATION:
SUMMARY:Confirmation Sunday @ 10 AM
DESCRIPTION:We will gather as one church family to celebrate Confirmation S
 unday with our students. In the United Methodist Church\,  Confirmation is 
 a significant step in which young people affirm their faith\,  claim the vo
 ws made at their baptism\,  and become full members of the church. Adult St
 udies will not meet[..]\nhttps://stmarkscarmel.org/events/confirmation-sund
 ay-10-am/
URL:https://stmarkscarmel.org/events/confirmation-sunday-10-am/
END:VEVENT
END:VCALENDAR