BEGIN:VCALENDAR
VERSION:2.0
PRODID:-//eventon.com NONSGML v1.0//EN
CALSCALE:GREGORIAN
METHOD:PUBLISH
BEGIN:VEVENT
UID:69e753cbed08e
DTSTAMP:20260421T103907Z
DTSTART:20260713T130000Z
DTEND:20260713T161500Z
LOCATION:St. Marks United Methodist Church 4780 E 126th St
SUMMARY:VBS 2026 - Rainforest Falls - Exploring the Nature of God
DESCRIPTION:VBS is open to campers Ages 4 – Grade 5 and volunteers Grade 
 6 – Adult Vacation Bible Camp (VBS) is a summer camp program designed to 
 introduce children to the love and grace of Jesus. It contains all the fun 
 activity stations you’d expect to find at a summer[..]\nhttps://stmarksca
 rmel.org/events/vbs-2026-rainforest-falls-exploring-the-nature-of-god/
URL:https://stmarkscarmel.org/events/vbs-2026-rainforest-falls-exploring-the-nature-of-god/
END:VEVENT
END:VCALENDAR