BEGIN:VCALENDAR
VERSION:2.0
PRODID:-//eventon.com NONSGML v1.0//EN
CALSCALE:GREGORIAN
METHOD:PUBLISH
BEGIN:VEVENT
UID:69e4b315b36ff
DTSTAMP:20260419T104853Z
DTSTART:20260511T190000Z
DTEND:20260512T020000Z
LOCATION:Handel&#039;s Ice Cream &amp; Yogurt 2466 E. 146th Street
SUMMARY:Preschool Spirit Night at Handel's Ice Cream
DESCRIPTION:I scream\,  you scream\,  we all scream for Handel’s Homemade
  ICE CREAM! Gather your friends for St. Mark’s Preschool’s spirit night
  at Handel’s. 20% of the total sweet treat purchases will be donated back
  to the school! Show a copy of the event flyer to your server to be sure[..
 ]\nhttps://stmarkscarmel.org/events/dine-out-to-donate-handels-ice-cream/
URL:https://stmarkscarmel.org/events/dine-out-to-donate-handels-ice-cream/
END:VEVENT
END:VCALENDAR