BEGIN:VCALENDAR
VERSION:2.0
PRODID:-//eventon.com NONSGML v1.0//EN
CALSCALE:GREGORIAN
METHOD:PUBLISH
BEGIN:VEVENT
UID:69e73241d9698
DTSTAMP:20260421T081601Z
DTSTART:20260531T130000Z
DTEND:20260531T150000Z
LOCATION:
SUMMARY:Calling All Graduates! May 31st
DESCRIPTION:St. Mark’s is excited to celebrate our High School\,  College
 \,  and Post-Graduate graduates on Sunday\,  May 31st with a small gift and
  special blessing! If you or a family member are graduating this year\,  we
  want to recognize your achievement. Please submit the following informatio
 n:High School Graduates – Full NameCollege[..]\nhttps://stmarkscarmel.org
 /events/graduation-recognition/
URL:https://stmarkscarmel.org/events/graduation-recognition/
END:VEVENT
END:VCALENDAR